BEGIN:VCALENDAR
VERSION:2.0
PRODID:-//hacksw/handcal//NONSGML v1.0//EN
BEGIN:VEVENT
SUMMARY:La Forestiere (7/14/28)
UID:3bd3ba63-5e07-44ce-9c35-c85fd0e300ac
DTSTART:20260713T220000Z
DTEND:20260714T220000Z
LOCATION:Localisation  85290 ST LAURENT/SEVRE
CATEGORIES:Sportif
STATUS:
URL;VALUE=URI:https://www.choletathle.fr/evenements/2026/07/14/la-forestiere-71428-2417693
END:VEVENT
END:VCALENDAR
