BEGIN:VCALENDAR
VERSION:2.0
PRODID:-//hacksw/handcal//NONSGML v1.0//EN
BEGIN:VEVENT
SUMMARY:Coupe de France des ligues
UID:340a5cd4-ca1f-4c42-96da-288c212ad482
DTSTART:20260714T080000Z
DTEND:20260714T160000Z
LOCATION:Localisation Stade des Marades 95300 Pontoise
CATEGORIES:Sportif
STATUS:
URL;VALUE=URI:https://www.choletathle.fr/evenements/2026/07/14/coupe-de-france-des-ligues-2439657
END:VEVENT
END:VCALENDAR
