BEGIN:VCALENDAR
VERSION:2.0
PRODID:-//hacksw/handcal//NONSGML v1.0//EN
BEGIN:VEVENT
SUMMARY:Trail et fines herbes
UID:5cfc5574-724a-4b7e-8167-a0af6efeb135
DTSTART:20260502T220000Z
DTEND:20260503T220000Z
LOCATION:Localisation stade 49230 monfaucon-montigne
CATEGORIES:Sportif
STATUS:
URL;VALUE=URI:https://www.choletathle.fr/evenements/2026/05/03/trail-et-fines-herbes-2421046
END:VEVENT
END:VCALENDAR
