BEGIN:VCALENDAR
VERSION:2.0
PRODID:-//hacksw/handcal//NONSGML v1.0//EN
BEGIN:VEVENT
SUMMARY:Interclubs premier tour
UID:b7c31818-74ff-428b-b03d-647d0c195a7b
DTSTART:20260503T080000Z
DTEND:20260503T160000Z
LOCATION:Localisation Stade du Lac de Maine 49000 Angers
CATEGORIES:Sportif
STATUS:
URL;VALUE=URI:https://www.choletathle.fr/evenements/2026/05/03/interclubs-premier-tour-2439642
END:VEVENT
END:VCALENDAR
