BEGIN:VCALENDAR
VERSION:2.0
PRODID:-//hacksw/handcal//NONSGML v1.0//EN
BEGIN:VEVENT
SUMMARY:Tour de Montreuil Juigne (5/10)
UID:4b0fa8b6-12bf-4872-b903-ae64312c811a
DTSTART:20260501T070000Z
DTEND:20260501T220000Z
LOCATION:Localisation  49460 MONTREUIL JUIGNE
CATEGORIES:Sportif
STATUS:
URL;VALUE=URI:https://www.choletathle.fr/evenements/2026/05/01/tour-de-montreuil-juigne-510-2417672
END:VEVENT
END:VCALENDAR
