BEGIN:VCALENDAR
VERSION:2.0
PRODID:-//hacksw/handcal//NONSGML v1.0//EN
BEGIN:VEVENT
SUMMARY:Championnat dpartemental
UID:f1610635-d559-4e3a-b0fc-f96dc80cd404
DTSTART:20260426T080000Z
DTEND:20260426T160000Z
LOCATION:Localisation Stade de la route de Pouanc 49500 Segr
CATEGORIES:Sportif
STATUS:
URL;VALUE=URI:https://www.choletathle.fr/evenements/2026/04/26/championnat-dpartemental-2439641
END:VEVENT
END:VCALENDAR
